BEGIN:VCALENDAR
VERSION:2.0
PRODID:-//Extended Reality Berlin-Brandenburg e.V. - ECPv6.15.20//NONSGML v1.0//EN
CALSCALE:GREGORIAN
METHOD:PUBLISH
X-WR-CALNAME:Extended Reality Berlin-Brandenburg e.V.
X-ORIGINAL-URL:https://extendedrealitybb.org
X-WR-CALDESC:Events for Extended Reality Berlin-Brandenburg e.V.
REFRESH-INTERVAL;VALUE=DURATION:PT1H
X-Robots-Tag:noindex
X-PUBLISHED-TTL:PT1H
BEGIN:VTIMEZONE
TZID:Europe/Berlin
BEGIN:DAYLIGHT
TZOFFSETFROM:+0100
TZOFFSETTO:+0200
TZNAME:CEST
DTSTART:20250330T010000
END:DAYLIGHT
BEGIN:STANDARD
TZOFFSETFROM:+0200
TZOFFSETTO:+0100
TZNAME:CET
DTSTART:20251026T010000
END:STANDARD
BEGIN:DAYLIGHT
TZOFFSETFROM:+0100
TZOFFSETTO:+0200
TZNAME:CEST
DTSTART:20260329T010000
END:DAYLIGHT
BEGIN:STANDARD
TZOFFSETFROM:+0200
TZOFFSETTO:+0100
TZNAME:CET
DTSTART:20261025T010000
END:STANDARD
BEGIN:DAYLIGHT
TZOFFSETFROM:+0100
TZOFFSETTO:+0200
TZNAME:CEST
DTSTART:20270328T010000
END:DAYLIGHT
BEGIN:STANDARD
TZOFFSETFROM:+0200
TZOFFSETTO:+0100
TZNAME:CET
DTSTART:20271031T010000
END:STANDARD
END:VTIMEZONE
BEGIN:VEVENT
DTSTART;VALUE=DATE:20260309
DTEND;VALUE=DATE:20260314
DTSTAMP:20260425T034940
CREATED:20260209T001600Z
LAST-MODIFIED:20260209T001600Z
UID:12515-1773014400-1773446399@extendedrealitybb.org
SUMMARY:GDC 2026 (Festival of Gaming)
DESCRIPTION:The 2026 edition marks the 40th anniversary of the Game Developers Conference\, rebranded as the GDC Festival of Gaming. This “reimagined” event brings together the traditional core of game development—programming\, design\, and art—with the broader worlds of entertainment\, media\, and business strategy.
URL:https://extendedrealitybb.org/event/gdc-2026-festival-of-gaming/
END:VEVENT
BEGIN:VEVENT
DTSTART;VALUE=DATE:20260310
DTEND;VALUE=DATE:20260313
DTSTAMP:20260425T034940
CREATED:20260209T095017Z
LAST-MODIFIED:20260209T095017Z
UID:12567-1773100800-1773359999@extendedrealitybb.org
SUMMARY:Embedded world 2026
DESCRIPTION:Embedded world is the premier international event for the entire embedded community\, covering everything from hardware and software to distribution and services. In 2026\, the exhibition and its world-class conference focus on the intelligence of systems\, showcasing how embedded vision\, M2M communication\, and safety-critical software are powering the next generation of autonomous devices.
URL:https://extendedrealitybb.org/event/embedded-world-2026/
END:VEVENT
BEGIN:VEVENT
DTSTART;VALUE=DATE:20260312
DTEND;VALUE=DATE:20260319
DTSTAMP:20260425T034940
CREATED:20260209T002152Z
LAST-MODIFIED:20260209T002152Z
UID:12519-1773273600-1773878399@extendedrealitybb.org
SUMMARY:SXSW 2026
DESCRIPTION:South by Southwest (SXSW) remains the world’s premier destination for the convergence of tech\, film\, music\, and education. For 2026\, the festival “goes back to its roots” by bringing Music\, Film & TV\, and Innovation programming together across seven consecutive days.
URL:https://extendedrealitybb.org/event/sxsw-2026/
END:VEVENT
BEGIN:VEVENT
DTSTART;VALUE=DATE:20260312
DTEND;VALUE=DATE:20260324
DTSTAMP:20260425T034940
CREATED:20260209T004128Z
LAST-MODIFIED:20260209T004128Z
UID:12528-1773273600-1774310399@extendedrealitybb.org
SUMMARY:Immersive Market & Compétition Immersive 2026
DESCRIPTION:The Immersive Market at the Marché du Film is the premier B2B platform for the XR and spatial computing industry within the world’s most prestigious film festival. It bridges the gap between traditional cinema and emerging digital art forms\, focusing on the distribution\, financing\, and curation of immersive works.
URL:https://extendedrealitybb.org/event/immersive-market-competition-immersive-2026/
END:VEVENT
BEGIN:VEVENT
DTSTART;VALUE=DATE:20260317
DTEND;VALUE=DATE:20260319
DTSTAMP:20260425T034940
CREATED:20260208T222216Z
LAST-MODIFIED:20260208T222228Z
UID:12500-1773705600-1773878399@extendedrealitybb.org
SUMMARY:ESA XR Conference
DESCRIPTION:The ESA XR Conference aims to bring together professionals and experts working with XR and related technologies in the space sector. The event will foster the exchange of ideas\, experiences\, and innovations through presentations\, interactive sessions\, live demonstrations\, and open discussions. While primarily informal\, the programme will feature posters and presentations\, with optional scientific paper submissions. An exhibition area will showcase cutting-edge software tools and hardware solutions.
URL:https://extendedrealitybb.org/event/esa-xr-conference/
END:VEVENT
BEGIN:VEVENT
DTSTART;VALUE=DATE:20260321
DTEND;VALUE=DATE:20260326
DTSTAMP:20260425T034940
CREATED:20260209T000335Z
LAST-MODIFIED:20260209T000335Z
UID:12513-1774051200-1774483199@extendedrealitybb.org
SUMMARY:IEEE VR 2026
DESCRIPTION:IEEE VR 2026 is the world’s leading research conference for Virtual\, Augmented\, and Mixed Reality. Celebrating its 33rd year\, the conference brings together top scientists\, engineers\, and designers from across the globe to Daegu\, South Korea. Unlike trade shows\, IEEE VR focuses on peer-reviewed breakthroughs that will define the hardware and software of the next decade.
URL:https://extendedrealitybb.org/event/ieee-vr-2026/
END:VEVENT
BEGIN:VEVENT
DTSTART;VALUE=DATE:20260408
DTEND;VALUE=DATE:20260411
DTSTAMP:20260425T034940
CREATED:20260209T012538Z
LAST-MODIFIED:20260209T012538Z
UID:12540-1775606400-1775865599@extendedrealitybb.org
SUMMARY:Laval Virtual 2026
DESCRIPTION:Laval Virtual 2026 brings together over 5\,000 professionals and 150+ exhibitors from 35+ nationalities. It is the premier multidisciplinary ecosystem where industry leaders\, startups\, researchers\, and artists shape the future of immersive technologies.
URL:https://extendedrealitybb.org/event/laval-virtual-2026-2/
END:VEVENT
BEGIN:VEVENT
DTSTART;VALUE=DATE:20260421
DTEND;VALUE=DATE:20260424
DTSTAMP:20260425T034940
CREATED:20260209T094041Z
LAST-MODIFIED:20260209T094041Z
UID:12565-1776729600-1776988799@extendedrealitybb.org
SUMMARY:DMEA 2026
DESCRIPTION:DMEA is the central meeting point for the digital health industry\, covering the entire spectrum of IT in healthcare. It brings together hospital managers\, IT experts\, doctors\, and policymakers to discuss how technology can improve patient care and optimize clinical workflows.
URL:https://extendedrealitybb.org/event/dmea-2026/
LOCATION:Messe Berlin\, Messedamm 22\, Berlin\, 14055\, Germany
END:VEVENT
BEGIN:VEVENT
DTSTART;VALUE=DATE:20260428
DTEND;VALUE=DATE:20260430
DTSTAMP:20260425T034940
CREATED:20260206T073336Z
LAST-MODIFIED:20260206T073336Z
UID:12498-1777334400-1777507199@extendedrealitybb.org
SUMMARY:XR EXPO 2026/Virtual Worlds
DESCRIPTION:Join the premier B2B event for Virtual\, Mixed\, and Augmented Reality (XR) as it enters a new era. For the first time\, XR EXPO moves to the main Messe Stuttgart trade fair grounds\, offering expanded exhibition space and deeper integration with the Virtual Worlds congress. This is the central meeting point for industry users\, technology providers\, and researchers to explore the future of the Industrial Metaverse.
URL:https://extendedrealitybb.org/event/xr-expo-2026-virtual-worlds/
END:VEVENT
BEGIN:VEVENT
DTSTART;VALUE=DATE:20260513
DTEND;VALUE=DATE:20260514
DTSTAMP:20260425T034940
CREATED:20260209T011244Z
LAST-MODIFIED:20260209T011244Z
UID:12532-1778630400-1778716799@extendedrealitybb.org
SUMMARY:ARVR INNOVATE 2026 Conference & Expo
DESCRIPTION:ARVR INNOVATE is unique among tech conferences because it skips the “hype” and focuses purely on commercial and enterprise deployment. Now in its 12th year\, the Dublin-based expo attracts a high-level audience of CIOs\, innovation leads\, and decision-makers looking for productivity gains and customer engagement solutions.
URL:https://extendedrealitybb.org/event/arvr-innovate-2026-conference-expo/
END:VEVENT
BEGIN:VEVENT
DTSTART;VALUE=DATE:20260513
DTEND;VALUE=DATE:20260517
DTSTAMP:20260425T034940
CREATED:20260209T084650Z
LAST-MODIFIED:20260209T090157Z
UID:12548-1778630400-1778975999@extendedrealitybb.org
SUMMARY:A MAZE. / Berlin 2026
DESCRIPTION:A MAZE. / Berlin is a world-renowned platform for independent and arthouse games\, exploring the evolving culture of playful media. The 15th edition brings together a global community of experimental game developers\, artistic world-builders\, digital artists\, and storytellers for an inspiring four-day program beyond the mainstream.
URL:https://extendedrealitybb.org/event/a-maze-berlin-2026/
LOCATION:silent Green Kulturquartier\, Gerichtstraße 35\, Berlin\, 13347\, Germany
END:VEVENT
BEGIN:VEVENT
DTSTART;VALUE=DATE:20260615
DTEND;VALUE=DATE:20260619
DTSTAMP:20260425T034940
CREATED:20260209T002802Z
LAST-MODIFIED:20260209T002802Z
UID:12522-1781481600-1781827199@extendedrealitybb.org
SUMMARY:AWE USA 2026 (California\, U.S.A)
DESCRIPTION:The flagship global event and the world’s #1 XR + AI conference. With over 6\,000 attendees and 300+ exhibitors\, the 2026 USA edition focuses on the intersection of human agency and AI. Key highlights include the Auggie Awards (the Oscars of the XR industry) and a massive “Playground” for testing unreleased hardware from Meta\, Snap\, and Magic Leap.
URL:https://extendedrealitybb.org/event/awe-usa-2026-california-u-s-a/
END:VEVENT
BEGIN:VEVENT
DTSTART;VALUE=DATE:20260623
DTEND;VALUE=DATE:20260626
DTSTAMP:20260425T034940
CREATED:20260208T235937Z
LAST-MODIFIED:20260208T235937Z
UID:12511-1782172800-1782431999@extendedrealitybb.org
SUMMARY:IMMERSIVE TECH WEEK
DESCRIPTION:Immersive Tech Week (ITW) is Europe’s premier festival dedicated to the exploration and advancement of immersive technologies. It serves as a global convergence point where creators\, researchers\, startups\, and industry leaders unite to push the boundaries of Virtual\, Augmented\, and Mixed Reality (XR) alongside Artificial Intelligence.
URL:https://extendedrealitybb.org/event/immersive-tech-week/
END:VEVENT
BEGIN:VEVENT
DTSTART;VALUE=DATE:20260630
DTEND;VALUE=DATE:20260702
DTSTAMP:20260425T034940
CREATED:20260209T085037Z
LAST-MODIFIED:20260304T104939Z
UID:12550-1782777600-1782950399@extendedrealitybb.org
SUMMARY:GITEX Europe 2026
DESCRIPTION:GITEX Europe is the premier European offshoot of the global tech giant\, focusing on the rapid digital transformation of industries. This high-level B2B platform connects global enterprises\, startups\, and investors to explore breakthroughs in AI\, Digital Cities\, and cybersecurity. \nUse the XRBB discount with the URL in this event 🙂
URL:https://extendedrealitybb.org/event/gitex-europe-2026/
LOCATION:Messe Berlin\, Messedamm 22\, Berlin\, 14055\, Germany
END:VEVENT
BEGIN:VEVENT
DTSTART;VALUE=DATE:20260708
DTEND;VALUE=DATE:20260711
DTSTAMP:20260425T034940
CREATED:20260209T090641Z
LAST-MODIFIED:20260209T090641Z
UID:12555-1783468800-1783727999@extendedrealitybb.org
SUMMARY:WeAreDevelopers World Congress 2026
DESCRIPTION:Attracting over 15\,000 attendees from 100+ countries\, this congress is recognised as the world’s leading gathering for software developers and AI innovators. The program covers the entire software development lifecycle\, focusing on building\, shipping\, and securing the technology of tomorrow.
URL:https://extendedrealitybb.org/event/wearedevelopers-world-congress-2026/
LOCATION:Messe Berlin\, Messedamm 22\, Berlin\, 14055\, Germany
END:VEVENT
BEGIN:VEVENT
DTSTART;VALUE=DATE:20260719
DTEND;VALUE=DATE:20260724
DTSTAMP:20260425T034940
CREATED:20260209T011546Z
LAST-MODIFIED:20260209T011725Z
UID:12534-1784419200-1784851199@extendedrealitybb.org
SUMMARY:SIGGRAPH 2026
DESCRIPTION:SIGGRAPH is the global pulse of the computer graphics industry. It is where the year’s most significant breakthroughs in rendering\, animation\, virtual reality\, and haptics are officially debuted. As the conference returns to Los Angeles—the heart of the global entertainment and aerospace industries—the 2026 edition explores the theme of “In-Betweens\,” examining the technical and conceptual relationships that connect our increasingly digital lives.
URL:https://extendedrealitybb.org/event/siggraph-2026/
END:VEVENT
BEGIN:VEVENT
DTSTART;VALUE=DATE:20260826
DTEND;VALUE=DATE:20260831
DTSTAMP:20260425T034940
CREATED:20260209T093608Z
LAST-MODIFIED:20260209T094233Z
UID:12563-1787702400-1788134399@extendedrealitybb.org
SUMMARY:Gamescom 2026
DESCRIPTION:Gamescom is the global epicenter for gaming culture\, bringing together hundreds of thousands of fans and the international games industry. It combines a massive B2C festival with a professional B2B environment\, featuring the latest software premieres\, hardware innovations\, and esports tournaments.
URL:https://extendedrealitybb.org/event/gamescom-2026/
LOCATION:Koelnmesse\, Messeplatz 1\, Cologne\, 50679\, Germany
END:VEVENT
BEGIN:VEVENT
DTSTART;VALUE=DATE:20260904
DTEND;VALUE=DATE:20260909
DTSTAMP:20260425T034940
CREATED:20260209T092217Z
LAST-MODIFIED:20260209T092217Z
UID:12557-1788480000-1788911999@extendedrealitybb.org
SUMMARY:IFA Berlin 2026
DESCRIPTION:In its 102nd year\, IFA remains the primary global launchpad for new consumer hardware. The event serves as a bridge between high-end industrial research and mass-market reality\, allowing the public to test new devices months before they hit the shelves.
URL:https://extendedrealitybb.org/event/ifa-berlin-2026/
LOCATION:Messe Berlin\, Messedamm 22\, Berlin\, 14055\, Germany
END:VEVENT
BEGIN:VEVENT
DTSTART;VALUE=DATE:20261007
DTEND;VALUE=DATE:20261009
DTSTAMP:20260425T034940
CREATED:20260209T093212Z
LAST-MODIFIED:20260209T093212Z
UID:12561-1791331200-1791503999@extendedrealitybb.org
SUMMARY:Photonics Days Berlin Brandenburg 2026
DESCRIPTION:This international conference showcases Berlin-Brandenburg’s strength as a global cluster for photonics\, optics\, and microsystems technology. It is a critical event for those interested in the hardware that enables XR\, autonomous driving\, and quantum computing.
URL:https://extendedrealitybb.org/event/photonics-days-berlin-brandenburg-2026/
LOCATION:Berlin\, Berlin\, Germany
END:VEVENT
BEGIN:VEVENT
DTSTART;VALUE=DATE:20261101
DTEND;VALUE=DATE:20261111
DTSTAMP:20260425T034940
CREATED:20260209T092647Z
LAST-MODIFIED:20260209T092647Z
UID:12559-1793491200-1794355199@extendedrealitybb.org
SUMMARY:Berlin Science Week 2026
DESCRIPTION:A 10-Day City-Wide Playground for Scientific Ideas. The Details: Berlin Science Week is one of Europe’s leading science festivals\, transforming the city into a hub for cutting-edge research and public dialogue. It brings together over 500 speakers and hundreds of organizations to make complex science tangible and engaging for a general audience.
URL:https://extendedrealitybb.org/event/berlin-science-week-2026/
END:VEVENT
BEGIN:VEVENT
DTSTART;VALUE=DATE:20261201
DTEND;VALUE=DATE:20261205
DTSTAMP:20260425T034940
CREATED:20260209T012025Z
LAST-MODIFIED:20260209T012025Z
UID:12536-1796083200-1796428799@extendedrealitybb.org
SUMMARY:SIGGRAPH Asia 2026
DESCRIPTION:SIGGRAPH Asia 2026 is the 19th ACM SIGGRAPH Conference and Exhibition on Computer Graphics and Interactive Techniques in Asia. It is the premier annual event for the region\, bringing together the world’s most respected technical and creative minds. The 2026 theme\, “Weaving the Future\,” celebrates the integration of cutting-edge innovation with Malaysia’s rich cultural tapestry.
URL:https://extendedrealitybb.org/event/siggraph-asia-2026/
END:VEVENT
BEGIN:VEVENT
DTSTART;VALUE=DATE:20261207
DTEND;VALUE=DATE:20261210
DTSTAMP:20260425T034940
CREATED:20260209T003210Z
LAST-MODIFIED:20260209T003210Z
UID:12524-1796601600-1796860799@extendedrealitybb.org
SUMMARY:UnitedXR Europe 2026 (Belgium)
DESCRIPTION:Previously known simply as AWE EU\, this rebranded event is a collaboration between AWE and Stereopsia Europe. It serves as a unified vision for the XR future in Europe\, combining a world-class trade exhibition with a deep academic and scientific conference program. It is the best place to track European XR policy\, industrial metaverse applications\, and creative storytelling.
URL:https://extendedrealitybb.org/event/unitedxr-europe-2026-belgium/
LOCATION:Maison de la Poste\, Rue Picard 5/7\, Brussels\, 1000\, Belgium
END:VEVENT
END:VCALENDAR