BEGIN:VCALENDAR
VERSION:2.0
PRODID:-//Extended Reality Berlin-Brandenburg e.V. - ECPv6.15.20//NONSGML v1.0//EN
CALSCALE:GREGORIAN
METHOD:PUBLISH
X-WR-CALNAME:Extended Reality Berlin-Brandenburg e.V.
X-ORIGINAL-URL:https://extendedrealitybb.org
X-WR-CALDESC:Events for Extended Reality Berlin-Brandenburg e.V.
REFRESH-INTERVAL;VALUE=DURATION:PT1H
X-Robots-Tag:noindex
X-PUBLISHED-TTL:PT1H
BEGIN:VTIMEZONE
TZID:Europe/Berlin
BEGIN:DAYLIGHT
TZOFFSETFROM:+0100
TZOFFSETTO:+0200
TZNAME:CEST
DTSTART:20250330T010000
END:DAYLIGHT
BEGIN:STANDARD
TZOFFSETFROM:+0200
TZOFFSETTO:+0100
TZNAME:CET
DTSTART:20251026T010000
END:STANDARD
BEGIN:DAYLIGHT
TZOFFSETFROM:+0100
TZOFFSETTO:+0200
TZNAME:CEST
DTSTART:20260329T010000
END:DAYLIGHT
BEGIN:STANDARD
TZOFFSETFROM:+0200
TZOFFSETTO:+0100
TZNAME:CET
DTSTART:20261025T010000
END:STANDARD
BEGIN:DAYLIGHT
TZOFFSETFROM:+0100
TZOFFSETTO:+0200
TZNAME:CEST
DTSTART:20270328T010000
END:DAYLIGHT
BEGIN:STANDARD
TZOFFSETFROM:+0200
TZOFFSETTO:+0100
TZNAME:CET
DTSTART:20271031T010000
END:STANDARD
END:VTIMEZONE
BEGIN:VEVENT
DTSTART;VALUE=DATE:20260826
DTEND;VALUE=DATE:20260831
DTSTAMP:20260425T050911
CREATED:20260209T093608Z
LAST-MODIFIED:20260209T094233Z
UID:12563-1787702400-1788134399@extendedrealitybb.org
SUMMARY:Gamescom 2026
DESCRIPTION:Gamescom is the global epicenter for gaming culture\, bringing together hundreds of thousands of fans and the international games industry. It combines a massive B2C festival with a professional B2B environment\, featuring the latest software premieres\, hardware innovations\, and esports tournaments.
URL:https://extendedrealitybb.org/event/gamescom-2026/
LOCATION:Koelnmesse\, Messeplatz 1\, Cologne\, 50679\, Germany
END:VEVENT
END:VCALENDAR