BEGIN:VCALENDAR
VERSION:2.0
PRODID:-//Extended Reality Berlin-Brandenburg e.V. - ECPv6.15.20//NONSGML v1.0//EN
CALSCALE:GREGORIAN
METHOD:PUBLISH
X-WR-CALNAME:Extended Reality Berlin-Brandenburg e.V.
X-ORIGINAL-URL:https://extendedrealitybb.org
X-WR-CALDESC:Events for Extended Reality Berlin-Brandenburg e.V.
REFRESH-INTERVAL;VALUE=DURATION:PT1H
X-Robots-Tag:noindex
X-PUBLISHED-TTL:PT1H
BEGIN:VTIMEZONE
TZID:Europe/Berlin
BEGIN:DAYLIGHT
TZOFFSETFROM:+0100
TZOFFSETTO:+0200
TZNAME:CEST
DTSTART:20250330T010000
END:DAYLIGHT
BEGIN:STANDARD
TZOFFSETFROM:+0200
TZOFFSETTO:+0100
TZNAME:CET
DTSTART:20251026T010000
END:STANDARD
BEGIN:DAYLIGHT
TZOFFSETFROM:+0100
TZOFFSETTO:+0200
TZNAME:CEST
DTSTART:20260329T010000
END:DAYLIGHT
BEGIN:STANDARD
TZOFFSETFROM:+0200
TZOFFSETTO:+0100
TZNAME:CET
DTSTART:20261025T010000
END:STANDARD
BEGIN:DAYLIGHT
TZOFFSETFROM:+0100
TZOFFSETTO:+0200
TZNAME:CEST
DTSTART:20270328T010000
END:DAYLIGHT
BEGIN:STANDARD
TZOFFSETFROM:+0200
TZOFFSETTO:+0100
TZNAME:CET
DTSTART:20271031T010000
END:STANDARD
END:VTIMEZONE
BEGIN:VEVENT
DTSTART;VALUE=DATE:20260421
DTEND;VALUE=DATE:20260424
DTSTAMP:20260424T193135
CREATED:20260209T094041Z
LAST-MODIFIED:20260209T094041Z
UID:12565-1776729600-1776988799@extendedrealitybb.org
SUMMARY:DMEA 2026
DESCRIPTION:DMEA is the central meeting point for the digital health industry\, covering the entire spectrum of IT in healthcare. It brings together hospital managers\, IT experts\, doctors\, and policymakers to discuss how technology can improve patient care and optimize clinical workflows.
URL:https://extendedrealitybb.org/event/dmea-2026/
LOCATION:Messe Berlin\, Messedamm 22\, Berlin\, 14055\, Germany
END:VEVENT
END:VCALENDAR