BEGIN:VCALENDAR
VERSION:2.0
PRODID:-//Extended Reality Berlin-Brandenburg e.V. - ECPv6.15.20//NONSGML v1.0//EN
CALSCALE:GREGORIAN
METHOD:PUBLISH
X-WR-CALNAME:Extended Reality Berlin-Brandenburg e.V.
X-ORIGINAL-URL:https://extendedrealitybb.org
X-WR-CALDESC:Events for Extended Reality Berlin-Brandenburg e.V.
REFRESH-INTERVAL;VALUE=DURATION:PT1H
X-Robots-Tag:noindex
X-PUBLISHED-TTL:PT1H
BEGIN:VTIMEZONE
TZID:Europe/Berlin
BEGIN:DAYLIGHT
TZOFFSETFROM:+0100
TZOFFSETTO:+0200
TZNAME:CEST
DTSTART:20250330T010000
END:DAYLIGHT
BEGIN:STANDARD
TZOFFSETFROM:+0200
TZOFFSETTO:+0100
TZNAME:CET
DTSTART:20251026T010000
END:STANDARD
BEGIN:DAYLIGHT
TZOFFSETFROM:+0100
TZOFFSETTO:+0200
TZNAME:CEST
DTSTART:20260329T010000
END:DAYLIGHT
BEGIN:STANDARD
TZOFFSETFROM:+0200
TZOFFSETTO:+0100
TZNAME:CET
DTSTART:20261025T010000
END:STANDARD
BEGIN:DAYLIGHT
TZOFFSETFROM:+0100
TZOFFSETTO:+0200
TZNAME:CEST
DTSTART:20270328T010000
END:DAYLIGHT
BEGIN:STANDARD
TZOFFSETFROM:+0200
TZOFFSETTO:+0100
TZNAME:CET
DTSTART:20271031T010000
END:STANDARD
END:VTIMEZONE
BEGIN:VEVENT
DTSTART;VALUE=DATE:20260227
DTEND;VALUE=DATE:20260302
DTSTAMP:20260425T001916
CREATED:20260209T012249Z
LAST-MODIFIED:20260209T012249Z
UID:12538-1772150400-1772409599@extendedrealitybb.org
SUMMARY:10 th Annual Virtual Reality and Healthcare Global Symposium
DESCRIPTION:The 10th Annual Global Symposium\, organized by the International Virtual Reality and Healthcare Association (IVRHA)\, is the premier interdisciplinary event for clinicians\, tech developers\, and researchers. The 2026 edition features an unprecedented collaboration with the VA Immersive team\, significantly expanding the program’s scope into large-scale clinical deployment.
URL:https://extendedrealitybb.org/event/10-th-annual-virtual-reality-and-healthcare-global-symposium/
END:VEVENT
END:VCALENDAR