BEGIN:VCALENDAR
VERSION:2.0
PRODID:-//Extended Reality Berlin-Brandenburg e.V. - ECPv6.15.20//NONSGML v1.0//EN
CALSCALE:GREGORIAN
METHOD:PUBLISH
X-WR-CALNAME:Extended Reality Berlin-Brandenburg e.V.
X-ORIGINAL-URL:https://extendedrealitybb.org
X-WR-CALDESC:Events for Extended Reality Berlin-Brandenburg e.V.
REFRESH-INTERVAL;VALUE=DURATION:PT1H
X-Robots-Tag:noindex
X-PUBLISHED-TTL:PT1H
BEGIN:VTIMEZONE
TZID:Europe/Berlin
BEGIN:DAYLIGHT
TZOFFSETFROM:+0100
TZOFFSETTO:+0200
TZNAME:CEST
DTSTART:20250330T010000
END:DAYLIGHT
BEGIN:STANDARD
TZOFFSETFROM:+0200
TZOFFSETTO:+0100
TZNAME:CET
DTSTART:20251026T010000
END:STANDARD
BEGIN:DAYLIGHT
TZOFFSETFROM:+0100
TZOFFSETTO:+0200
TZNAME:CEST
DTSTART:20260329T010000
END:DAYLIGHT
BEGIN:STANDARD
TZOFFSETFROM:+0200
TZOFFSETTO:+0100
TZNAME:CET
DTSTART:20261025T010000
END:STANDARD
BEGIN:DAYLIGHT
TZOFFSETFROM:+0100
TZOFFSETTO:+0200
TZNAME:CEST
DTSTART:20270328T010000
END:DAYLIGHT
BEGIN:STANDARD
TZOFFSETFROM:+0200
TZOFFSETTO:+0100
TZNAME:CET
DTSTART:20271031T010000
END:STANDARD
END:VTIMEZONE
BEGIN:VEVENT
DTSTART;VALUE=DATE:20260212
DTEND;VALUE=DATE:20260223
DTSTAMP:20260425T021500
CREATED:20260209T014110Z
LAST-MODIFIED:20260209T014110Z
UID:12545-1770854400-1771804799@extendedrealitybb.org
SUMMARY:76th Berlinale 2026
DESCRIPTION:The Berlinale 2026 is the second edition under the artistic direction of Tricia Tuttle\, focusing on a more compact\, accessible\, and audience-friendly festival layout. As one of the world’s largest public film festivals\, it attracts over 300\,000 visitors to witness the best in international arthouse\, documentary\, and independent cinema.
URL:https://extendedrealitybb.org/event/76th-berlinale-2026/
LOCATION:Potsdamer Platz\, Potsdamer Str. 5\, Berlin\, 10785\, Germany
END:VEVENT
END:VCALENDAR